BEGIN:VCALENDAR
VERSION:2.0
PRODID:-//Tukios.com/
BEGIN:VEVENT
UID:31e8ce33-6402-4853-a54d-3b767346e490@obits.mckennaouellette.com
DTSTAMP:20260421T203754Z
DTSTART:20260423T200000Z
DTEND:20260423T220000Z
SUMMARY:Visitation
DESCRIPTION:
URL:https://obits.mckennaouellette.com/lorraine-hebert
LOCATION: 327 Hildreth Street  Lowell MA 01850
GEO:42.6623437;-71.3089966
END:VEVENT
END:VCALENDAR