BEGIN:VCALENDAR
VERSION:2.0
PRODID:-//Tukios.com/
BEGIN:VEVENT
UID:f00b77f5-ff72-4f44-a103-1983c09203e7@obits.mckennaouellette.com
DTSTAMP:20260422T215702Z
DTSTART:20260425T150000Z
DTEND:20260425T160000Z
SUMMARY:Mass
DESCRIPTION:
URL:https://obits.mckennaouellette.com/kenneth-s-hood
LOCATION: 144 E Merrimack St  Lowell MA 01852
GEO:42.6452778;-71.302872
END:VEVENT
END:VCALENDAR