BEGIN:VCALENDAR
VERSION:2.0
PRODID:-//Tukios.com/
BEGIN:VEVENT
UID:d59d707f-b950-43a2-a92e-dc13fdfab8a1@obits.mckennaouellette.com
DTSTAMP:20260422T214953Z
DTSTART:20260424T190000Z
DTEND:20260424T220000Z
SUMMARY:Memorial Visitation
DESCRIPTION:
URL:https://obits.mckennaouellette.com/kenneth-s-hood
LOCATION: 327 Hildreth Street  Lowell MA 01850
GEO:42.6623437;-71.3089966
END:VEVENT
END:VCALENDAR