BEGIN:VCALENDAR
VERSION:2.0
PRODID:-//Tukios.com/
BEGIN:VEVENT
UID:14ea0568-6cc7-4fc8-a477-51897c93ee48@obits.mckennaouellette.com
DTSTAMP:20260423T235402Z
DTSTART:20260427
SUMMARY:Burial
DESCRIPTION:
URL:https://obits.mckennaouellette.com/joseph-lefrancois
LOCATION: 172 East St  Tewksbury MA 01876
GEO:42.6124473;-71.2269096
END:VEVENT
END:VCALENDAR