BEGIN:VCALENDAR
VERSION:2.0
PRODID:-//Tukios.com/
BEGIN:VEVENT
UID:5fc931c9-fb88-46c7-b681-4557302daafc@obits.mckennaouellette.com
DTSTAMP:20260423T235208Z
DTSTART:20260427T140000Z
DTEND:20260427T150000Z
SUMMARY:Funeral Mass
DESCRIPTION:
URL:https://obits.mckennaouellette.com/joseph-lefrancois
LOCATION:St. Marguerite d'Youville Church 1340 Lakeview Ave  Dracut MA 
	01826
GEO:42.6703597;-71.3280342
END:VEVENT
END:VCALENDAR