BEGIN:VCALENDAR
VERSION:2.0
PRODID:-//Tukios.com/
BEGIN:VEVENT
UID:fb67756a-c990-4fe6-9cae-1bb35ab9f22a@obits.mckennaouellette.com
DTSTAMP:20260423T234446Z
DTSTART:20260426T190000Z
DTEND:20260426T210000Z
SUMMARY:Visitation
DESCRIPTION:
URL:https://obits.mckennaouellette.com/joseph-lefrancois
LOCATION: 327 Hildreth Street  Lowell MA 01850
GEO:42.6623437;-71.3089966
END:VEVENT
END:VCALENDAR