BEGIN:VCALENDAR
VERSION:2.0
PRODID:-//Tukios.com/
BEGIN:VEVENT
UID:2b22a54e-1948-47ce-894b-5ae0b5cacce8@obits.mckennaouellette.com
DTSTAMP:20260421T203400Z
DTSTART:20260425
SUMMARY:Burial
DESCRIPTION:
URL:https://obits.mckennaouellette.com/donna-rourke
LOCATION:   Dracut MA 01826
GEO:42.6704186;-71.296393
END:VEVENT
END:VCALENDAR