BEGIN:VCALENDAR
VERSION:2.0
PRODID:-//Tukios.com/
BEGIN:VEVENT
UID:7d850b60-0a72-4e14-85e9-81a4be40164d@obits.mckennaouellette.com
DTSTAMP:20260421T204112Z
DTSTART:20260425T150000Z
DTEND:20260425T160000Z
SUMMARY:Prayer Service
DESCRIPTION:
URL:https://obits.mckennaouellette.com/donna-rourke
LOCATION: 327 Hildreth Street  Lowell MA 01850
GEO:42.6623437;-71.3089966
END:VEVENT
END:VCALENDAR