BEGIN:VCALENDAR
VERSION:2.0
PRODID:-//Tukios.com/
BEGIN:VEVENT
UID:2b6da6c7-023f-423b-98f4-693428cfe38d@obits.mckennaouellette.com
DTSTAMP:20260421T203448Z
DTSTART:20260425T130000Z
DTEND:20260425T150000Z
SUMMARY:Visitation
DESCRIPTION:
URL:https://obits.mckennaouellette.com/donna-rourke
LOCATION: 327 Hildreth Street  Lowell MA 01850
GEO:42.6623437;-71.3089966
END:VEVENT
END:VCALENDAR